BEGIN:VCALENDAR
VERSION:2.0
PRODID:-//Library Market//iCal Export//EN
BEGIN:VEVENT
SUMMARY:Star Wars Trivia
UID:49137
DTSTAMP:20260421T154200Z
DTSTART:20260504T230000Z
DTEND:20260505T010000Z
LOCATION:Coal City Public Library District, 85 N Garfield St, Coal City, I
 L 60416, United States
ROOM: Meeting Room
DESCRIPTION:Think you know your Star Wars Trivia? May the 4th be with you 
 for this trivia and pizza dinner event. Register your team of up to 4 play
 ers to try and win the prize and bragging rights. 
URL:https://coalcity.librarycalendar.com/index.php/event/star-wars-trivia-
 49137
END:VEVENT
END:VCALENDAR
