BEGIN:VCALENDAR
VERSION:2.0
PRODID:-//Library Market//iCal Export//EN
BEGIN:VEVENT
SUMMARY:Create a Pet Rock
UID:49161
DTSTAMP:20260425T020900Z
DTSTART:20260611T200000Z
DTEND:20260611T213000Z
LOCATION:Coal City Public Library District, 85 N Garfield St, Coal City, I
 L 60416, United States
ROOM: Meeting Room
DESCRIPTION:Ages 2 to 18 are welcome to create your very own pet rock - no
  feeding required. We&#039;ll provide the supplies just bring your imagina
 tion to create your own unique pet rock. Drop by anytime between 3-4:30pm.
  Please register with a CCPLD library card each child making a rock. 
URL:https://coalcity.librarycalendar.com/index.php/event/create-pet-rock-4
 9161
END:VEVENT
END:VCALENDAR
