BEGIN:VCALENDAR
VERSION:2.0
PRODID:-//Library Market//iCal Export//EN
BEGIN:VEVENT
SUMMARY:Dinosaur STEAM Fun
UID:49162
DTSTAMP:20260425T020900Z
DTSTART:20260617T180000Z
DTEND:20260617T193000Z
LOCATION:Coal City Public Library District, 85 N Garfield St, Coal City, I
 L 60416, United States
ROOM: Meeting Room
DESCRIPTION:Families can join us as you walk through different STEAM stati
 ons exploring everything dinosaur related. Please register with a CCPLD l
 ibrary card each child making a rock. 
URL:https://coalcity.librarycalendar.com/index.php/event/dinosaur-steam-fu
 n-49162
END:VEVENT
END:VCALENDAR
